BEGIN:VCALENDAR
VERSION:2.0
PRODID:-//Taekwondo Union Baden-Württemberg - ECPv6.15.20//NONSGML v1.0//EN
CALSCALE:GREGORIAN
METHOD:PUBLISH
X-WR-CALNAME:Taekwondo Union Baden-Württemberg
X-ORIGINAL-URL:https://tubw.de
X-WR-CALDESC:Veranstaltungen für Taekwondo Union Baden-Württemberg
REFRESH-INTERVAL;VALUE=DURATION:PT1H
X-Robots-Tag:noindex
X-PUBLISHED-TTL:PT1H
BEGIN:VTIMEZONE
TZID:Europe/Berlin
BEGIN:DAYLIGHT
TZOFFSETFROM:+0100
TZOFFSETTO:+0200
TZNAME:CEST
DTSTART:20240331T010000
END:DAYLIGHT
BEGIN:STANDARD
TZOFFSETFROM:+0200
TZOFFSETTO:+0100
TZNAME:CET
DTSTART:20241027T010000
END:STANDARD
BEGIN:DAYLIGHT
TZOFFSETFROM:+0100
TZOFFSETTO:+0200
TZNAME:CEST
DTSTART:20250330T010000
END:DAYLIGHT
BEGIN:STANDARD
TZOFFSETFROM:+0200
TZOFFSETTO:+0100
TZNAME:CET
DTSTART:20251026T010000
END:STANDARD
BEGIN:DAYLIGHT
TZOFFSETFROM:+0100
TZOFFSETTO:+0200
TZNAME:CEST
DTSTART:20260329T010000
END:DAYLIGHT
BEGIN:STANDARD
TZOFFSETFROM:+0200
TZOFFSETTO:+0100
TZNAME:CET
DTSTART:20261025T010000
END:STANDARD
END:VTIMEZONE
BEGIN:VEVENT
DTSTART;TZID=Europe/Berlin:20250101T100000
DTEND;TZID=Europe/Berlin:20250106T160000
DTSTAMP:20260423T104313
CREATED:20250108T222823Z
LAST-MODIFIED:20250114T103440Z
UID:17995-1735725600-1736179200@tubw.de
SUMMARY:TUBW - Wintercamp
DESCRIPTION:
URL:https://tubw.de/event/wintercamp/
LOCATION:Bodenseeschulsporthalle\, Zeisigweg 1\, Friedrichshafen\, 88045\, Germany
CATEGORIES:Landestrainer Kyorugi
END:VEVENT
BEGIN:VEVENT
DTSTART;TZID=Europe/Berlin:20250104T160000
DTEND;TZID=Europe/Berlin:20250104T190000
DTSTAMP:20260423T104313
CREATED:20241030T200747Z
LAST-MODIFIED:20241030T200747Z
UID:17817-1736006400-1736017200@tubw.de
SUMMARY:VDP - Vereins-DAN-Prüfung 1. bis 3. DAN in Stuttgart
DESCRIPTION:Anbei die Ausschreibung:\nVDP 039-20250104 1-3Dan Stuttgart
URL:https://tubw.de/event/vdp-vereins-dan-pruefung-1-bis-3-dan-in-stuttgart-2/
LOCATION:Turn und Versammlungshalle Hedelfingen\, Hedelfingerstr. 149\, Stuttgart Hedelfingen\, Baden-Württemberg\, 70329\, Germany
CATEGORIES:Prüfung
END:VEVENT
BEGIN:VEVENT
DTSTART;VALUE=DATE:20250108
DTEND;VALUE=DATE:20250109
DTSTAMP:20260423T104313
CREATED:20250107T231418Z
LAST-MODIFIED:20250107T231418Z
UID:17961-1736294400-1736380799@tubw.de
SUMMARY:TUBW sucht Ausrichter für DVL und LDP für das Jahr 2025
DESCRIPTION:Anbei die Ausschreibung:\n2025 Ausrichter gesucht
URL:https://tubw.de/event/tubw-sucht-ausrichter-fuer-dvl-und-ldp-fuer-das-jahr-2025/
CATEGORIES:Lehrgang,Prüfung
END:VEVENT
BEGIN:VEVENT
DTSTART;TZID=Europe/Berlin:20250118T100000
DTEND;TZID=Europe/Berlin:20250118T170000
DTSTAMP:20260423T104313
CREATED:20241113T194620Z
LAST-MODIFIED:20241113T194620Z
UID:17847-1737194400-1737219600@tubw.de
SUMMARY:Ausbildungs-Lehrgang für interessierte DVL-Referenten in Grunbach
DESCRIPTION:Anbei die Ausschreibung:\n2025 01 18 Refenten für DVL
URL:https://tubw.de/event/ausbildungs-lehrgang-fuer-interessierte-dvl-referenten-in-grunbach/
LOCATION:Eichberghalle Engelsbrand\, Eichbergstraße 75\, Engelsbrand\, Baden-Württemberg\, 75331\, Germany
CATEGORIES:Lehrgang
END:VEVENT
BEGIN:VEVENT
DTSTART;TZID=Europe/Berlin:20250126T090000
DTEND;TZID=Europe/Berlin:20250126T160000
DTSTAMP:20260423T104313
CREATED:20241017T114737Z
LAST-MODIFIED:20241017T114939Z
UID:17755-1737882000-1737907200@tubw.de
SUMMARY:DVL - DAN-Vorbereitungs-Lehrgang für 1.-3. DAN Anwärter und Trainer in Pforzheim
DESCRIPTION:Anbei die Ausschreibug\n2024-10-17_DVL 020-20250126 Pforzheim
URL:https://tubw.de/event/dvl-dan-vorbereitungs-lehrgang-fuer-1-3-dan-anwaerter-und-trainer-in-pforzheim/
LOCATION:Sporthalle am Benckiserpark\, Habermehlstr. 4\, Pforzheim\, Baden-Württemberg\, 75172\, Germany
CATEGORIES:Lehrgang
END:VEVENT
BEGIN:VEVENT
DTSTART;TZID=Europe/Berlin:20250126T090000
DTEND;TZID=Europe/Berlin:20250126T160000
DTSTAMP:20260423T104313
CREATED:20241017T114856Z
LAST-MODIFIED:20241017T114856Z
UID:17749-1737882000-1737907200@tubw.de
SUMMARY:DVL - DAN-Vorbereitungs-Lehrgang Anwärter ab 4. DAN und höher in Pforzheim
DESCRIPTION:Anbei die Ausschreibung\n2024-10-17_DVL 020-20250126 Pforzheim ab 4Dan  
URL:https://tubw.de/event/dvl-dan-vorbereitungs-lehrgang-anwaerter-ab-4-dan-und-hoeher-in-pforzheim/
LOCATION:Sporthalle am Benckiserpark\, Habermehlstr. 4\, Pforzheim\, Baden-Württemberg\, 75172\, Germany
CATEGORIES:Lehrgang
END:VEVENT
END:VCALENDAR