BEGIN:VCALENDAR
VERSION:2.0
PRODID:-//Taekwondo Union Baden-Württemberg - ECPv6.15.20//NONSGML v1.0//EN
CALSCALE:GREGORIAN
METHOD:PUBLISH
X-WR-CALNAME:Taekwondo Union Baden-Württemberg
X-ORIGINAL-URL:https://tubw.de
X-WR-CALDESC:Veranstaltungen für Taekwondo Union Baden-Württemberg
REFRESH-INTERVAL;VALUE=DURATION:PT1H
X-Robots-Tag:noindex
X-PUBLISHED-TTL:PT1H
BEGIN:VTIMEZONE
TZID:Europe/Berlin
BEGIN:DAYLIGHT
TZOFFSETFROM:+0100
TZOFFSETTO:+0200
TZNAME:CEST
DTSTART:20230326T010000
END:DAYLIGHT
BEGIN:STANDARD
TZOFFSETFROM:+0200
TZOFFSETTO:+0100
TZNAME:CET
DTSTART:20231029T010000
END:STANDARD
BEGIN:DAYLIGHT
TZOFFSETFROM:+0100
TZOFFSETTO:+0200
TZNAME:CEST
DTSTART:20240331T010000
END:DAYLIGHT
BEGIN:STANDARD
TZOFFSETFROM:+0200
TZOFFSETTO:+0100
TZNAME:CET
DTSTART:20241027T010000
END:STANDARD
BEGIN:DAYLIGHT
TZOFFSETFROM:+0100
TZOFFSETTO:+0200
TZNAME:CEST
DTSTART:20250330T010000
END:DAYLIGHT
BEGIN:STANDARD
TZOFFSETFROM:+0200
TZOFFSETTO:+0100
TZNAME:CET
DTSTART:20251026T010000
END:STANDARD
END:VTIMEZONE
BEGIN:VEVENT
DTSTART;VALUE=DATE:20240902
DTEND;VALUE=DATE:20240908
DTSTAMP:20260419T173536
CREATED:20240531T142924Z
LAST-MODIFIED:20240531T142924Z
UID:17452-1725235200-1725753599@tubw.de
SUMMARY:Sommercamp am LLZ-Friedrichshafen
DESCRIPTION:
URL:https://tubw.de/event/sommercamp-am-llz-friedrichshafen/
LOCATION:Bodenseeschulsporthalle\, Zeisigweg 1\, Friedrichshafen\, 88045\, Germany
CATEGORIES:Camps
END:VEVENT
BEGIN:VEVENT
DTSTART;VALUE=DATE:20240907
DTEND;VALUE=DATE:20240908
DTSTAMP:20260419T173536
CREATED:20240729T094743Z
LAST-MODIFIED:20240805T175253Z
UID:17565-1725667200-1725753599@tubw.de
SUMMARY:Deutsche Meisterschaft 2024 Poomsae - Freestyle - Para in Lehrte
DESCRIPTION:Anbei die Ausschreibung \n2024-08-05_Ausschreibung DM 2024 – Stand 1 August
URL:https://tubw.de/event/deutsche-meisterschaft-2024-poomsae-freestyle-para-in-lehrte/
LOCATION:Sporthalle Im Schulpark\, Südring 28\, Lehrte\, Niedersachsen\, 31275\, Deutschland
CATEGORIES:Turnier Poomsae
END:VEVENT
BEGIN:VEVENT
DTSTART;VALUE=DATE:20240908
DTEND;VALUE=DATE:20240909
DTSTAMP:20260419T173536
CREATED:20240729T095304Z
LAST-MODIFIED:20240805T175125Z
UID:17572-1725753600-1725839999@tubw.de
SUMMARY:Deutscher Jugend Cup 2024 Poomsae -Freestyle - Para in Lehrte
DESCRIPTION:Anbei die Ausschreibung \n2024-08-05_Ausschreibung DJC 2024 – Stand 1 August
URL:https://tubw.de/event/deutscher-jugend-cup-2024-poomsae-freestyle-para-in-lehrte/
LOCATION:Sporthalle Im Schulpark\, Südring 28\, Lehrte\, Niedersachsen\, 31275\, Deutschland
CATEGORIES:Turnier Poomsae
END:VEVENT
BEGIN:VEVENT
DTSTART;TZID=Europe/Berlin:20240914T093000
DTEND;TZID=Europe/Berlin:20240914T173000
DTSTAMP:20260419T173536
CREATED:20240506T184049Z
LAST-MODIFIED:20240906T101342Z
UID:17346-1726306200-1726335000@tubw.de
SUMMARY:Bundesbreitensportlehrgang in Lauchheim
DESCRIPTION:Siehe Ausschreibung \n2024-07-23_BBSL Lauchheim 2024 \nAnmeldeschluss ist entgegen der Ausschreibung der 12.09.2024! und nicht der 07.09.2024
URL:https://tubw.de/event/bundesbreitensportlehrgang-lauchheim/
LOCATION:Alamannenhalle Lauchheim\, Im Roten Feld 39\, Lauchheim\, Baden-Württemberg\, 73466\, Deutschland
CATEGORIES:Lehrgang
END:VEVENT
BEGIN:VEVENT
DTSTART;TZID=Europe/Berlin:20240921T090000
DTEND;TZID=Europe/Berlin:20240921T160000
DTSTAMP:20260419T173536
CREATED:20240506T184119Z
LAST-MODIFIED:20240914T084441Z
UID:17348-1726909200-1726934400@tubw.de
SUMMARY:2. Mutlanger Breitensportlehrgang
DESCRIPTION:s. Ausschreibung \nAusschreibung-2.Mutlanger Breitensportlehrgang_V2
URL:https://tubw.de/event/2-mutlanger-breitensportlehrgang/
LOCATION:Heidehalle Mutlangen\, Feldstraße 42\, Mutlangen\, Baden-Württemberg\, 73557\, Germany
CATEGORIES:Lehrgang
END:VEVENT
BEGIN:VEVENT
DTSTART;TZID=Europe/Berlin:20240926T173000
DTEND;TZID=Europe/Berlin:20240926T213000
DTSTAMP:20260419T173536
CREATED:20240702T115837Z
LAST-MODIFIED:20240702T115837Z
UID:17522-1727371800-1727386200@tubw.de
SUMMARY:VDP – Vereins-DAN-Prüfung zum 1. bis 3. Dan in Stuttgart
DESCRIPTION:s. Ausschreibung \n2024-07-02_VDP 028-20240926 1-3 Dan Stuttgart
URL:https://tubw.de/event/vdp-vereins-dan-pruefung-zum-1-bis-3-dan-in-stuttgart/
LOCATION:Brunnenrealschule\, Gymnastikhalle\, Wilhelmstrasse 32\, Stuttgart\, Baden-Württemberg\, 70372\, Deutschland
CATEGORIES:Prüfung
END:VEVENT
END:VCALENDAR