BEGIN:VCALENDAR
VERSION:2.0
PRODID:-//Taekwondo Union Baden-Württemberg - ECPv6.15.20//NONSGML v1.0//EN
CALSCALE:GREGORIAN
METHOD:PUBLISH
X-ORIGINAL-URL:https://tubw.de
X-WR-CALDESC:Veranstaltungen für Taekwondo Union Baden-Württemberg
REFRESH-INTERVAL;VALUE=DURATION:PT1H
X-Robots-Tag:noindex
X-PUBLISHED-TTL:PT1H
BEGIN:VTIMEZONE
TZID:Europe/Berlin
BEGIN:DAYLIGHT
TZOFFSETFROM:+0100
TZOFFSETTO:+0200
TZNAME:CEST
DTSTART:20240331T010000
END:DAYLIGHT
BEGIN:STANDARD
TZOFFSETFROM:+0200
TZOFFSETTO:+0100
TZNAME:CET
DTSTART:20241027T010000
END:STANDARD
BEGIN:DAYLIGHT
TZOFFSETFROM:+0100
TZOFFSETTO:+0200
TZNAME:CEST
DTSTART:20250330T010000
END:DAYLIGHT
BEGIN:STANDARD
TZOFFSETFROM:+0200
TZOFFSETTO:+0100
TZNAME:CET
DTSTART:20251026T010000
END:STANDARD
BEGIN:DAYLIGHT
TZOFFSETFROM:+0100
TZOFFSETTO:+0200
TZNAME:CEST
DTSTART:20260329T010000
END:DAYLIGHT
BEGIN:STANDARD
TZOFFSETFROM:+0200
TZOFFSETTO:+0100
TZNAME:CET
DTSTART:20261025T010000
END:STANDARD
END:VTIMEZONE
BEGIN:VEVENT
DTSTART;TZID=Europe/Berlin:20250214T160000
DTEND;TZID=Europe/Berlin:20250214T210000
DTSTAMP:20260423T105103
CREATED:20250110T135120Z
LAST-MODIFIED:20250115T170443Z
UID:18000-1739548800-1739566800@tubw.de
SUMMARY:VDP- Vereins-Dan-Prüfung zum 1. Dan in Karlsruhe-Hagsfeld
DESCRIPTION:Anbei die Ausschreibung:\nVDP 043-20250214 1Dan Karlsruhe Hagsfeld
URL:https://tubw.de/event/vdp-vereins-dan-pruefung-zum1-dan-in-karlsruhe-hagsfeld/
LOCATION:Karlsruhe-Hagsfeld\, Schäfwerstr. 26\, Karlsruhe Hagsfeld\, Baden-Württemberg\, 76139
CATEGORIES:Prüfung
END:VEVENT
END:VCALENDAR