BEGIN:VCALENDAR
VERSION:2.0
PRODID:-//Taekwondo Union Baden-Württemberg - ECPv6.15.20//NONSGML v1.0//EN
CALSCALE:GREGORIAN
METHOD:PUBLISH
X-ORIGINAL-URL:https://tubw.de
X-WR-CALDESC:Veranstaltungen für Taekwondo Union Baden-Württemberg
REFRESH-INTERVAL;VALUE=DURATION:PT1H
X-Robots-Tag:noindex
X-PUBLISHED-TTL:PT1H
BEGIN:VTIMEZONE
TZID:Europe/Berlin
BEGIN:DAYLIGHT
TZOFFSETFROM:+0100
TZOFFSETTO:+0200
TZNAME:CEST
DTSTART:20230326T010000
END:DAYLIGHT
BEGIN:STANDARD
TZOFFSETFROM:+0200
TZOFFSETTO:+0100
TZNAME:CET
DTSTART:20231029T010000
END:STANDARD
BEGIN:DAYLIGHT
TZOFFSETFROM:+0100
TZOFFSETTO:+0200
TZNAME:CEST
DTSTART:20240331T010000
END:DAYLIGHT
BEGIN:STANDARD
TZOFFSETFROM:+0200
TZOFFSETTO:+0100
TZNAME:CET
DTSTART:20241027T010000
END:STANDARD
BEGIN:DAYLIGHT
TZOFFSETFROM:+0100
TZOFFSETTO:+0200
TZNAME:CEST
DTSTART:20250330T010000
END:DAYLIGHT
BEGIN:STANDARD
TZOFFSETFROM:+0200
TZOFFSETTO:+0100
TZNAME:CET
DTSTART:20251026T010000
END:STANDARD
END:VTIMEZONE
BEGIN:VEVENT
DTSTART;VALUE=DATE:20241214
DTEND;VALUE=DATE:20241215
DTSTAMP:20260419T144851
CREATED:20240506T192654Z
LAST-MODIFIED:20241021T165721Z
UID:17381-1734134400-1734220799@tubw.de
SUMMARY:LDP - Landes-Dan-Prüfung 1. bis 3. Dan in Lauchheim
DESCRIPTION:Anbei die Ausschreibung:\nLandes-Dan-Prüfung 1.-3. Dan in Lauchheim 2024
URL:https://tubw.de/event/landes-dan-pruefung-1-3-dan-in-lauchheim/
LOCATION:Alamannenhalle Lauchheim\, Im Roten Feld 39\, Lauchheim\, Baden-Württemberg\, 73466\, Deutschland
CATEGORIES:Prüfung
END:VEVENT
BEGIN:VEVENT
DTSTART;TZID=Europe/Berlin:20241214T150000
DTEND;TZID=Europe/Berlin:20241214T190000
DTSTAMP:20260419T144851
CREATED:20241001T131526Z
LAST-MODIFIED:20241001T131526Z
UID:17691-1734188400-1734202800@tubw.de
SUMMARY:VDP – Vereins-Dan-Prüfung zum 1. Dan in Bretten
DESCRIPTION:Siehe die Ausschreibung \nVDP 032-20241214 1 Dan Bretten
URL:https://tubw.de/event/vdp-vereins-dan-pruefung-zum-1-dan-in-bretten/
LOCATION:Bretten\, Wilhelmstr. 6\, Bretten\, Baden-Württemberg\, 75015\, Germany
CATEGORIES:Prüfung
END:VEVENT
END:VCALENDAR