BEGIN:VCALENDAR
VERSION:2.0
PRODID:-//Taekwondo Union Baden-Württemberg - ECPv6.15.20//NONSGML v1.0//EN
CALSCALE:GREGORIAN
METHOD:PUBLISH
X-WR-CALNAME:Taekwondo Union Baden-Württemberg
X-ORIGINAL-URL:https://tubw.de
X-WR-CALDESC:Veranstaltungen für Taekwondo Union Baden-Württemberg
REFRESH-INTERVAL;VALUE=DURATION:PT1H
X-Robots-Tag:noindex
X-PUBLISHED-TTL:PT1H
BEGIN:VTIMEZONE
TZID:Europe/Berlin
BEGIN:DAYLIGHT
TZOFFSETFROM:+0100
TZOFFSETTO:+0200
TZNAME:CEST
DTSTART:20230326T010000
END:DAYLIGHT
BEGIN:STANDARD
TZOFFSETFROM:+0200
TZOFFSETTO:+0100
TZNAME:CET
DTSTART:20231029T010000
END:STANDARD
BEGIN:DAYLIGHT
TZOFFSETFROM:+0100
TZOFFSETTO:+0200
TZNAME:CEST
DTSTART:20240331T010000
END:DAYLIGHT
BEGIN:STANDARD
TZOFFSETFROM:+0200
TZOFFSETTO:+0100
TZNAME:CET
DTSTART:20241027T010000
END:STANDARD
BEGIN:DAYLIGHT
TZOFFSETFROM:+0100
TZOFFSETTO:+0200
TZNAME:CEST
DTSTART:20250330T010000
END:DAYLIGHT
BEGIN:STANDARD
TZOFFSETFROM:+0200
TZOFFSETTO:+0100
TZNAME:CET
DTSTART:20251026T010000
END:STANDARD
END:VTIMEZONE
BEGIN:VEVENT
DTSTART;TZID=Europe/Berlin:20241123T130000
DTEND;TZID=Europe/Berlin:20241123T170000
DTSTAMP:20260419T161125
CREATED:20240904T225049Z
LAST-MODIFIED:20240910T073045Z
UID:17607-1732366800-1732381200@tubw.de
SUMMARY:TUBW e.V. außerordentliche Mitgliederversammlung in Karlsruhe
DESCRIPTION:Die TUBW e.V. außerordentliche Mitgliederversammlung findet am 23.11.2024 in Karlsruhe statt. \nDie bisherigen Termine 09.oder 10. November gehen nicht\, da die DTU an diesem Wochenende mehrere Infoveranstaltungen durchführt. \nGenauere Angaben werden mit der Einladung versendet. \nMfG\nM. Thielemann
URL:https://tubw.de/event/tubw-e-v-ausserordentliche-mitgliederversammlung-in-karlsruhe/
LOCATION:Emil-Arheit-Halle\, Bruchwaldstr. 76\, Karlsruhe-Grötzingen\, Baden-Württemberg\, 76229\, Germany
CATEGORIES:Allgemeine Termine
END:VEVENT
END:VCALENDAR