BEGIN:VCALENDAR
VERSION:2.0
PRODID:-//Taekwondo Union Baden-Württemberg - ECPv6.15.20//NONSGML v1.0//EN
CALSCALE:GREGORIAN
METHOD:PUBLISH
X-ORIGINAL-URL:https://tubw.de
X-WR-CALDESC:Veranstaltungen für Taekwondo Union Baden-Württemberg
REFRESH-INTERVAL;VALUE=DURATION:PT1H
X-Robots-Tag:noindex
X-PUBLISHED-TTL:PT1H
BEGIN:VTIMEZONE
TZID:Europe/Berlin
BEGIN:DAYLIGHT
TZOFFSETFROM:+0100
TZOFFSETTO:+0200
TZNAME:CEST
DTSTART:20230326T010000
END:DAYLIGHT
BEGIN:STANDARD
TZOFFSETFROM:+0200
TZOFFSETTO:+0100
TZNAME:CET
DTSTART:20231029T010000
END:STANDARD
BEGIN:DAYLIGHT
TZOFFSETFROM:+0100
TZOFFSETTO:+0200
TZNAME:CEST
DTSTART:20240331T010000
END:DAYLIGHT
BEGIN:STANDARD
TZOFFSETFROM:+0200
TZOFFSETTO:+0100
TZNAME:CET
DTSTART:20241027T010000
END:STANDARD
BEGIN:DAYLIGHT
TZOFFSETFROM:+0100
TZOFFSETTO:+0200
TZNAME:CEST
DTSTART:20250330T010000
END:DAYLIGHT
BEGIN:STANDARD
TZOFFSETFROM:+0200
TZOFFSETTO:+0100
TZNAME:CET
DTSTART:20251026T010000
END:STANDARD
END:VTIMEZONE
BEGIN:VEVENT
DTSTART;VALUE=DATE:20241116
DTEND;VALUE=DATE:20241118
DTSTAMP:20260419T161434
CREATED:20240531T143514Z
LAST-MODIFIED:20240928T141912Z
UID:17457-1731715200-1731887999@tubw.de
SUMMARY:Croatia Open Vollkontakt in Zagreb
DESCRIPTION:
URL:https://tubw.de/event/croatia-open/
LOCATION:Zagreb\, Croatia (Local Name: Hrvatska)
CATEGORIES:Turnier Kyorugi
END:VEVENT
BEGIN:VEVENT
DTSTART;VALUE=DATE:20241117
DTEND;VALUE=DATE:20241118
DTSTAMP:20260419T161434
CREATED:20240506T192041Z
LAST-MODIFIED:20241021T165424Z
UID:17373-1731801600-1731887999@tubw.de
SUMMARY:LDP - Landes-Dan-Prüfung 4. bis 9. Dan in Leutkirch im Allgäu
DESCRIPTION:Anbei die Ausschreibung
URL:https://tubw.de/event/landes-dan-pruefung-4-9-dan-in-leutkirch-im-allgaeu/
LOCATION:Sport- und Mehrzweckhalle Gebrazhofen\, Schulstraße 30\, Leutkirch im Allgäu\, 88299\, Deutschland
CATEGORIES:Prüfung
END:VEVENT
END:VCALENDAR