BEGIN:VCALENDAR
VERSION:2.0
PRODID:-//Taekwondo Union Baden-Württemberg - ECPv6.15.20//NONSGML v1.0//EN
CALSCALE:GREGORIAN
METHOD:PUBLISH
X-WR-CALNAME:Taekwondo Union Baden-Württemberg
X-ORIGINAL-URL:https://tubw.de
X-WR-CALDESC:Veranstaltungen für Taekwondo Union Baden-Württemberg
REFRESH-INTERVAL;VALUE=DURATION:PT1H
X-Robots-Tag:noindex
X-PUBLISHED-TTL:PT1H
BEGIN:VTIMEZONE
TZID:Europe/Berlin
BEGIN:DAYLIGHT
TZOFFSETFROM:+0100
TZOFFSETTO:+0200
TZNAME:CEST
DTSTART:20230326T010000
END:DAYLIGHT
BEGIN:STANDARD
TZOFFSETFROM:+0200
TZOFFSETTO:+0100
TZNAME:CET
DTSTART:20231029T010000
END:STANDARD
BEGIN:DAYLIGHT
TZOFFSETFROM:+0100
TZOFFSETTO:+0200
TZNAME:CEST
DTSTART:20240331T010000
END:DAYLIGHT
BEGIN:STANDARD
TZOFFSETFROM:+0200
TZOFFSETTO:+0100
TZNAME:CET
DTSTART:20241027T010000
END:STANDARD
BEGIN:DAYLIGHT
TZOFFSETFROM:+0100
TZOFFSETTO:+0200
TZNAME:CEST
DTSTART:20250330T010000
END:DAYLIGHT
BEGIN:STANDARD
TZOFFSETFROM:+0200
TZOFFSETTO:+0100
TZNAME:CET
DTSTART:20251026T010000
END:STANDARD
END:VTIMEZONE
BEGIN:VEVENT
DTSTART;TZID=Europe/Berlin:20241110T100000
DTEND;TZID=Europe/Berlin:20241110T160000
DTSTAMP:20260419T161233
CREATED:20240521T111606Z
LAST-MODIFIED:20240911T191756Z
UID:17436-1731232800-1731254400@tubw.de
SUMMARY:DVL - Danvorbereitungslehrgang für Dan Anwärter und Trainer der TUBW in Bühl
DESCRIPTION:Anbei die Ausschreibung: Neuer Veranstaltungsort! \n2024-09-11_DVL 019-20241110 Bühl neue Adresse \n2024-09-11_DVL Bühl Adressänderung
URL:https://tubw.de/event/dvl-danvorbereitungslehrgang-fuer-dan-anwaerter-und-trainer-der-tubw/
LOCATION:Schwarzwaldhalle\, Jahnstr. 15\, Birkenfeld\, Baden-Württemberg\, 75217\, Germany
CATEGORIES:Lehrgang
END:VEVENT
END:VCALENDAR